BEGIN:VCALENDAR
VERSION:2.0
PRODID:-//ExpressionEngine Easy iCalendar plugin//NONSGML v2.0.1//EN
X-WR-TIMEZONE:America/Denver
X-WR-CALNAME:Upcoming Auctions
BEGIN:VEVENT
UID:30574
DTSTAMP:20180929T090000
DTSTART:20180929T090000
DTEND:20180929T100000
SUMMARY:State of Montana Surplus Property Auction
LOCATION:16 W Custer Ave.\, Helena\, MT 59601\, US
DESCRIPTION:LIVE AUCTION SEPT. 29 at 9 AM
URL:https://www.pateauction.com/auctions/detail/state-of-montana
 -surplus-property-auction-bw30574
SEQUENCE:1
END:VEVENT
END:VCALENDAR