BEGIN:VCALENDAR
VERSION:2.0
PRODID:-//ExpressionEngine Easy iCalendar plugin//NONSGML v2.0.1//EN
X-WR-TIMEZONE:America/Denver
X-WR-CALNAME:Upcoming Auctions
BEGIN:VEVENT
UID:80880
DTSTAMP:20220517T130000
DTSTART:20220517T130000
DTEND:20220531T180000
SUMMARY:Spring 2022 Equipment Auction
LOCATION:2955 Cottage Rd.\, East Helena\, MT 59635\, US
DESCRIPTION:Spring 2022 Equipment Auction
URL:https://www.pateauction.com/auctions/detail/bw80880
SEQUENCE:1
END:VEVENT
END:VCALENDAR